BEGIN:VCALENDAR
VERSION:2.0
PRODID:-//Freneuse-sur-Risle - ECPv6.15.18//NONSGML v1.0//EN
CALSCALE:GREGORIAN
METHOD:PUBLISH
X-WR-CALNAME:Freneuse-sur-Risle
X-ORIGINAL-URL:https://freneuse-sur-risle.fr
X-WR-CALDESC:Évènements pour Freneuse-sur-Risle
REFRESH-INTERVAL;VALUE=DURATION:PT1H
X-Robots-Tag:noindex
X-PUBLISHED-TTL:PT1H
BEGIN:VTIMEZONE
TZID:UTC
BEGIN:STANDARD
TZOFFSETFROM:+0000
TZOFFSETTO:+0000
TZNAME:UTC
DTSTART:20240101T000000
END:STANDARD
END:VTIMEZONE
BEGIN:VEVENT
DTSTART;TZID=UTC:20250613T170000
DTEND;TZID=UTC:20250614T213000
DTSTAMP:20260422T105314
CREATED:20250525T152747Z
LAST-MODIFIED:20250525T152857Z
UID:2072-1749834000-1749936600@freneuse-sur-risle.fr
SUMMARY:Les Nuits des Forêts - 13 et 14 Juin 2025
DESCRIPTION:Notre commune accueillera cette année le festival « Les Nuits des forêts » qui aura lieu du vendredi 13 au samedi 14 juin à Freneuse-sur-Risle à partir de 17h \nVous pouvez vous inscrire grâce au lien suivant : Inscriptions en ligne Nuits des forêts. \nInformations pratiques\n\n→ Pensez à vous munir d’une lampe de poche et de chaussures adaptées à une balade en forêt ! \n→ Inscription : https://eure-mb-prestataire.for-system.com/z8501e4f118045x118045_fr-NDF-Office-de-Tourisme-Pont-Audemer-Val-de-Risle-Pole-metropolitain-de-l-estuaire-de-la-Seine.aspx?Param/IdProprio=13985 \n→ Lieu d’accueil vendredi : Mairie de Freneuse-sur-Risle\, 6 place de la Mairie\, 27290 Freneuse-sur-Risle \n→ Lieu d’accueil samedi : Sentier Nature de Freneuse-sur-Risle\, au bout de la Rue de la Berquerie\, 27290 Freneuse-sur-Risle
URL:https://freneuse-sur-risle.fr/event/la-nuit-des-forets-13-et-14-juin-2025/
LOCATION:La Mairie\, 4 place de la maire\, freneuse sur risle\, 27290\, France
ATTACH;FMTTYPE=image/jpeg:https://freneuse-sur-risle.fr/wp-content/uploads/2025/05/images-2.jpg
END:VEVENT
BEGIN:VEVENT
DTSTART;TZID=UTC:20250614T100000
DTEND;TZID=UTC:20250615T180000
DTSTAMP:20260422T105314
CREATED:20250525T152022Z
LAST-MODIFIED:20250525T153730Z
UID:2069-1749895200-1750010400@freneuse-sur-risle.fr
SUMMARY:Exposition "L'arbre et la Forêt"
DESCRIPTION:A l’occasion du festical « Les nuits des Forêts\, notre salle polyvalente accueillera le samedi 14 et le dimanche 15 Juin 2025 l’exposditon l’Arbre et la Forêt ». \nHoraires : 10h – 18h le samedi 14 et le dimanche 15 \nEntrée Libre
URL:https://freneuse-sur-risle.fr/event/exposition-larbre-et-la-foret/
LOCATION:La Freneusienne
CATEGORIES:Exposition
ATTACH;FMTTYPE=image/jpeg:https://freneuse-sur-risle.fr/wp-content/uploads/2025/05/IMG-20250525-WA0000.jpg
END:VEVENT
BEGIN:VEVENT
DTSTART;TZID=UTC:20250626T080000
DTEND;TZID=UTC:20250626T170000
DTSTAMP:20260422T105314
CREATED:20250626T115524Z
LAST-MODIFIED:20250626T115540Z
UID:2085-1750924800-1750957200@freneuse-sur-risle.fr
SUMMARY:Kermesse Ecole Saint Grégoire du Vievre
DESCRIPTION:Les familles dont les enfants sont scolarisés à l’école de Saint-Grégoire Du Vièvre sont conviées à la Kermesse de l’école qui sera organisée le 28 Juincà partir de 15h. \n  \n 
URL:https://freneuse-sur-risle.fr/event/kermesse-ecole-saint-gregoire-du-vievre/
ATTACH;FMTTYPE=image/png:https://freneuse-sur-risle.fr/wp-content/uploads/2025/06/affiche-kermesse-2025.png
END:VEVENT
END:VCALENDAR