BEGIN:VCALENDAR
VERSION:2.0
PRODID:-//Freneuse-sur-Risle - ECPv6.15.18//NONSGML v1.0//EN
CALSCALE:GREGORIAN
METHOD:PUBLISH
X-WR-CALNAME:Freneuse-sur-Risle
X-ORIGINAL-URL:https://freneuse-sur-risle.fr
X-WR-CALDESC:Évènements pour Freneuse-sur-Risle
REFRESH-INTERVAL;VALUE=DURATION:PT1H
X-Robots-Tag:noindex
X-PUBLISHED-TTL:PT1H
BEGIN:VTIMEZONE
TZID:UTC
BEGIN:STANDARD
TZOFFSETFROM:+0000
TZOFFSETTO:+0000
TZNAME:UTC
DTSTART:20230101T000000
END:STANDARD
END:VTIMEZONE
BEGIN:VEVENT
DTSTART;VALUE=DATE:20241109
DTEND;VALUE=DATE:20241111
DTSTAMP:20260422T230549
CREATED:20231229T160337Z
LAST-MODIFIED:20231229T160337Z
UID:1745-1731110400-1731283199@freneuse-sur-risle.fr
SUMMARY:Randonnée "Les feuilles mortes"
DESCRIPTION:
URL:https://freneuse-sur-risle.fr/event/randonnee-les-feuilles-mortes/
CATEGORIES:ASCF,Randonnées
END:VEVENT
BEGIN:VEVENT
DTSTART;VALUE=DATE:20241110
DTEND;VALUE=DATE:20241111
DTSTAMP:20260422T230549
CREATED:20231229T161026Z
LAST-MODIFIED:20231229T161026Z
UID:1755-1731196800-1731283199@freneuse-sur-risle.fr
SUMMARY:Randonnée "Les feuilles mortes"
DESCRIPTION:Randonnées : RDV devant la salle communale « La Freneusienne » \nLe samedi à 14h \nLe dimanche à 10h
URL:https://freneuse-sur-risle.fr/event/randonnee-les-feuilles-mortes-2/
CATEGORIES:ASCF,Randonnées
END:VEVENT
BEGIN:VEVENT
DTSTART;VALUE=DATE:20241124
DTEND;VALUE=DATE:20241125
DTSTAMP:20260422T230549
CREATED:20231229T160411Z
LAST-MODIFIED:20231229T160411Z
UID:1747-1732406400-1732492799@freneuse-sur-risle.fr
SUMMARY:Bourse aux jouets et foire à la puericulture
DESCRIPTION:
URL:https://freneuse-sur-risle.fr/event/bourse-aux-jouets-et-foire-a-la-puericulture/
CATEGORIES:ASCF
END:VEVENT
END:VCALENDAR