BEGIN:VCALENDAR
VERSION:2.0
PRODID:-//Freneuse-sur-Risle - ECPv6.15.18//NONSGML v1.0//EN
CALSCALE:GREGORIAN
METHOD:PUBLISH
X-WR-CALNAME:Freneuse-sur-Risle
X-ORIGINAL-URL:https://freneuse-sur-risle.fr
X-WR-CALDESC:Évènements pour Freneuse-sur-Risle
REFRESH-INTERVAL;VALUE=DURATION:PT1H
X-Robots-Tag:noindex
X-PUBLISHED-TTL:PT1H
BEGIN:VTIMEZONE
TZID:UTC
BEGIN:STANDARD
TZOFFSETFROM:+0000
TZOFFSETTO:+0000
TZNAME:UTC
DTSTART:20230101T000000
END:STANDARD
END:VTIMEZONE
BEGIN:VEVENT
DTSTART;VALUE=DATE:20241012
DTEND;VALUE=DATE:20241013
DTSTAMP:20260423T005005
CREATED:20231229T160242Z
LAST-MODIFIED:20231229T161747Z
UID:1743-1728691200-1728777599@freneuse-sur-risle.fr
SUMMARY:Randonnée "Les pommes" - Tarte aux pommes
DESCRIPTION:
URL:https://freneuse-sur-risle.fr/event/randonnee-les-pommes-tarte-aux-pommes/
CATEGORIES:ASCF,Randonnées
END:VEVENT
BEGIN:VEVENT
DTSTART;VALUE=DATE:20241013
DTEND;VALUE=DATE:20241014
DTSTAMP:20260423T005005
CREATED:20231229T161831Z
LAST-MODIFIED:20231229T161831Z
UID:1764-1728777600-1728863999@freneuse-sur-risle.fr
SUMMARY:Randonnée "Les pommes" - Tarte aux pommes
DESCRIPTION:Randonnées : RDV devant la salle communale « La Freneusienne » \nLe samedi à 14h \nLe dimanche à 10h
URL:https://freneuse-sur-risle.fr/event/randonnee-les-pommes-tarte-aux-pommes-2/
CATEGORIES:ASCF,Randonnées
END:VEVENT
END:VCALENDAR