BEGIN:VCALENDAR
VERSION:2.0
PRODID:-//Freneuse-sur-Risle - ECPv6.15.18//NONSGML v1.0//EN
CALSCALE:GREGORIAN
METHOD:PUBLISH
X-ORIGINAL-URL:https://freneuse-sur-risle.fr
X-WR-CALDESC:Évènements pour Freneuse-sur-Risle
REFRESH-INTERVAL;VALUE=DURATION:PT1H
X-Robots-Tag:noindex
X-PUBLISHED-TTL:PT1H
BEGIN:VTIMEZONE
TZID:UTC
BEGIN:STANDARD
TZOFFSETFROM:+0000
TZOFFSETTO:+0000
TZNAME:UTC
DTSTART:20230101T000000
END:STANDARD
END:VTIMEZONE
BEGIN:VEVENT
DTSTART;TZID=UTC:20240307T143000
DTEND;TZID=UTC:20240307T163000
DTSTAMP:20260423T133856
CREATED:20240222T204021Z
LAST-MODIFIED:20240222T204021Z
UID:1806-1709821800-1709829000@freneuse-sur-risle.fr
SUMMARY:Sensibilisation outil informatique
DESCRIPTION:Nous vous invitons le jeudi 7 mars 2024 à 14 heures 30 jusqu’à 16 heures 30.
URL:https://freneuse-sur-risle.fr/event/sensibilisation-outil-informatique/
END:VEVENT
BEGIN:VEVENT
DTSTART;VALUE=DATE:20240323
DTEND;VALUE=DATE:20240324
DTSTAMP:20260423T133856
CREATED:20231229T155341Z
LAST-MODIFIED:20240222T201653Z
UID:1718-1711152000-1711238399@freneuse-sur-risle.fr
SUMMARY:Randonnée "Printemps\, crêpes et cidre"
DESCRIPTION:Randonnées : RDV devant la salle communale « La Freneusienne » \nLe samedi à 14h \nLe dimanche à 10h
URL:https://freneuse-sur-risle.fr/event/randonnee-printemps-crepes-et-cidre/
CATEGORIES:ASCF,Randonnées
END:VEVENT
BEGIN:VEVENT
DTSTART;VALUE=DATE:20240324
DTEND;VALUE=DATE:20240325
DTSTAMP:20260423T133856
CREATED:20231229T161506Z
LAST-MODIFIED:20240222T201734Z
UID:1761-1711238400-1711324799@freneuse-sur-risle.fr
SUMMARY:Randonnée "Printemps\, crêpes et cidre"
DESCRIPTION:Randonnées : RDV devant la salle communale « La Freneusienne » \nLe samedi à 14h \nLe dimanche à 10h
URL:https://freneuse-sur-risle.fr/event/randonnee-printemps-crepes-et-cidre-copy/
CATEGORIES:ASCF,Randonnées
END:VEVENT
BEGIN:VEVENT
DTSTART;VALUE=DATE:20240330
DTEND;VALUE=DATE:20240331
DTSTAMP:20260423T133856
CREATED:20231229T155435Z
LAST-MODIFIED:20231229T155435Z
UID:1721-1711756800-1711843199@freneuse-sur-risle.fr
SUMMARY:Concours de dominos
DESCRIPTION:
URL:https://freneuse-sur-risle.fr/event/concours-de-dominos/
CATEGORIES:ASCF
END:VEVENT
END:VCALENDAR