BEGIN:VCALENDAR
VERSION:2.0
PRODID:-//Freneuse-sur-Risle - ECPv6.15.18//NONSGML v1.0//EN
CALSCALE:GREGORIAN
METHOD:PUBLISH
X-WR-CALNAME:Freneuse-sur-Risle
X-ORIGINAL-URL:https://freneuse-sur-risle.fr
X-WR-CALDESC:Évènements pour Freneuse-sur-Risle
REFRESH-INTERVAL;VALUE=DURATION:PT1H
X-Robots-Tag:noindex
X-PUBLISHED-TTL:PT1H
BEGIN:VTIMEZONE
TZID:UTC
BEGIN:STANDARD
TZOFFSETFROM:+0000
TZOFFSETTO:+0000
TZNAME:UTC
DTSTART:20230101T000000
END:STANDARD
END:VTIMEZONE
BEGIN:VEVENT
DTSTART;TZID=UTC:20240106T140000
DTEND;TZID=UTC:20240106T160000
DTSTAMP:20260423T164155
CREATED:20231229T155208Z
LAST-MODIFIED:20231229T162247Z
UID:1714-1704549600-1704556800@freneuse-sur-risle.fr
SUMMARY:Randonnée "Hiver\, galette des rois"
DESCRIPTION:Randonnées : RDV devant la salle communale « La Freneusienne » \nLe samedi à 14h \nLe dimanche à 10h
URL:https://freneuse-sur-risle.fr/event/randonnee-hiver-galette-des-rois/
CATEGORIES:ASCF,Randonnées
END:VEVENT
BEGIN:VEVENT
DTSTART;TZID=UTC:20240107T100000
DTEND;TZID=UTC:20240107T120000
DTSTAMP:20260423T164155
CREATED:20231229T161323Z
LAST-MODIFIED:20231229T162458Z
UID:1757-1704621600-1704628800@freneuse-sur-risle.fr
SUMMARY:Randonnée "Hiver\, galette des rois"
DESCRIPTION:Randonnées : RDV devant la salle communale « La Freneusienne » \nLe samedi à 14h \nLe dimanche à 10h
URL:https://freneuse-sur-risle.fr/event/randonnee-hiver-galette-des-rois-copy/
CATEGORIES:ASCF,Randonnées
END:VEVENT
BEGIN:VEVENT
DTSTART;TZID=UTC:20240112T190000
DTEND;TZID=UTC:20240112T210000
DTSTAMP:20260423T164155
CREATED:20231229T153149Z
LAST-MODIFIED:20231229T154858Z
UID:1703-1705086000-1705093200@freneuse-sur-risle.fr
SUMMARY:Voeux de la Municipalité
DESCRIPTION:Patrice BONVOISIN et le CONSEIL MUNICIPAL ont le plaisir de vous inviter aux Vœux de la Municipalité\nVENDREDI 12 JANVIER 2024 \nà 19 heures à la salle polyvalente \n« LA FRENEUSIENNE »
URL:https://freneuse-sur-risle.fr/event/voeux-de-la-municipalite/
LOCATION:La Freneusienne
CATEGORIES:Mairie
END:VEVENT
BEGIN:VEVENT
DTSTART;TZID=UTC:20240121T150000
DTEND;TZID=UTC:20240121T170000
DTSTAMP:20260423T164155
CREATED:20240105T152119Z
LAST-MODIFIED:20240105T152119Z
UID:1780-1705849200-1705856400@freneuse-sur-risle.fr
SUMMARY:Pièce de théâtre
DESCRIPTION:Le 21 janvier à 15h\, à la salle polyvalente « La Freneusienne »\, la troupe « Les apprentis Poquelin » viendra présenter sa pièce intitulée « Bon anniv’ Patrick » \n  \n8 € pour les adultes\n5 € pour les enfants
URL:https://freneuse-sur-risle.fr/event/piece-de-theatre/
END:VEVENT
END:VCALENDAR