BEGIN:VCALENDAR
VERSION:2.0
PRODID:-//Freneuse-sur-Risle - ECPv6.15.18//NONSGML v1.0//EN
CALSCALE:GREGORIAN
METHOD:PUBLISH
X-ORIGINAL-URL:https://freneuse-sur-risle.fr
X-WR-CALDESC:Évènements pour Freneuse-sur-Risle
REFRESH-INTERVAL;VALUE=DURATION:PT1H
X-Robots-Tag:noindex
X-PUBLISHED-TTL:PT1H
BEGIN:VTIMEZONE
TZID:UTC
BEGIN:STANDARD
TZOFFSETFROM:+0000
TZOFFSETTO:+0000
TZNAME:UTC
DTSTART:20240101T000000
END:STANDARD
END:VTIMEZONE
BEGIN:VEVENT
DTSTART;TZID=UTC:20250517T140000
DTEND;TZID=UTC:20250517T193000
DTSTAMP:20260422T143953
CREATED:20250506T095505Z
LAST-MODIFIED:20250506T095839Z
UID:2059-1747490400-1747510200@freneuse-sur-risle.fr
SUMMARY:Pierre en Lumières - Eglise Saint Ouen
DESCRIPTION:  \nA l’occasion de la 9ème édition 2025 de Pierre En Lumières\, nichée dans la magnifique vallée de la Risle\, venez découvrir notre église du XIe siècle avec son retable de l’Annonciation et ses murs extérieurs restaurés.  \nCommentaires et descriptions du retable de Michel Lourdel par Denis Lepla\, président de l’AMSE. \nVoici l’ensemble du programme : Carte-Programme-PEL2025-BD \n 
URL:https://freneuse-sur-risle.fr/event/pierre-en-lumieres-eglise-saint-ouen/
LOCATION:Eglise Saint Ouen\, 1 rue du lavoir\, Freneuse sur Risle\, 27290
END:VEVENT
END:VCALENDAR