BEGIN:VCALENDAR
VERSION:2.0
PRODID:-//Freneuse-sur-Risle - ECPv6.15.18//NONSGML v1.0//EN
CALSCALE:GREGORIAN
METHOD:PUBLISH
X-WR-CALNAME:Freneuse-sur-Risle
X-ORIGINAL-URL:https://freneuse-sur-risle.fr
X-WR-CALDESC:Évènements pour Freneuse-sur-Risle
REFRESH-INTERVAL;VALUE=DURATION:PT1H
X-Robots-Tag:noindex
X-PUBLISHED-TTL:PT1H
BEGIN:VTIMEZONE
TZID:UTC
BEGIN:STANDARD
TZOFFSETFROM:+0000
TZOFFSETTO:+0000
TZNAME:UTC
DTSTART:20230101T000000
END:STANDARD
END:VTIMEZONE
BEGIN:VEVENT
DTSTART;VALUE=DATE:20240622
DTEND;VALUE=DATE:20240624
DTSTAMP:20260423T095517
CREATED:20231229T155958Z
LAST-MODIFIED:20240601T134439Z
UID:1735-1719014400-1719187199@freneuse-sur-risle.fr
SUMMARY:Feu de la Saint-Jean
DESCRIPTION:
URL:https://freneuse-sur-risle.fr/event/feu-de-la-saint-jean-2/
CATEGORIES:ASCF
END:VEVENT
BEGIN:VEVENT
DTSTART;VALUE=DATE:20240623
DTEND;VALUE=DATE:20240624
DTSTAMP:20260423T095517
CREATED:20231229T160024Z
LAST-MODIFIED:20231229T160024Z
UID:1737-1719100800-1719187199@freneuse-sur-risle.fr
SUMMARY:Repas champêtre
DESCRIPTION:
URL:https://freneuse-sur-risle.fr/event/repas-champetre-2/
CATEGORIES:ASCF
END:VEVENT
END:VCALENDAR