BEGIN:VCALENDAR
VERSION:2.0
PRODID:-//Freneuse-sur-Risle - ECPv6.15.18//NONSGML v1.0//EN
CALSCALE:GREGORIAN
METHOD:PUBLISH
X-WR-CALNAME:Freneuse-sur-Risle
X-ORIGINAL-URL:https://freneuse-sur-risle.fr
X-WR-CALDESC:Évènements pour Freneuse-sur-Risle
REFRESH-INTERVAL;VALUE=DURATION:PT1H
X-Robots-Tag:noindex
X-PUBLISHED-TTL:PT1H
BEGIN:VTIMEZONE
TZID:UTC
BEGIN:STANDARD
TZOFFSETFROM:+0000
TZOFFSETTO:+0000
TZNAME:UTC
DTSTART:20230101T000000
END:STANDARD
END:VTIMEZONE
BEGIN:VEVENT
DTSTART;VALUE=DATE:20240601
DTEND;VALUE=DATE:20240603
DTSTAMP:20260423T095446
CREATED:20231229T155855Z
LAST-MODIFIED:20231229T155855Z
UID:1733-1717200000-1717372799@freneuse-sur-risle.fr
SUMMARY:Randonnée "Eté" Glaces
DESCRIPTION:
URL:https://freneuse-sur-risle.fr/event/randonnee-ete-glaces/
CATEGORIES:ASCF,Randonnées
END:VEVENT
END:VCALENDAR