BEGIN:VCALENDAR
VERSION:2.0
PRODID:-//Freneuse-sur-Risle - ECPv6.15.18//NONSGML v1.0//EN
CALSCALE:GREGORIAN
METHOD:PUBLISH
X-ORIGINAL-URL:https://freneuse-sur-risle.fr
X-WR-CALDESC:Évènements pour Freneuse-sur-Risle
REFRESH-INTERVAL;VALUE=DURATION:PT1H
X-Robots-Tag:noindex
X-PUBLISHED-TTL:PT1H
BEGIN:VTIMEZONE
TZID:UTC
BEGIN:STANDARD
TZOFFSETFROM:+0000
TZOFFSETTO:+0000
TZNAME:UTC
DTSTART:20230101T000000
END:STANDARD
END:VTIMEZONE
BEGIN:VEVENT
DTSTART;VALUE=DATE:20240526
DTEND;VALUE=DATE:20240527
DTSTAMP:20260423T114701
CREATED:20231229T155801Z
LAST-MODIFIED:20231229T155801Z
UID:1731-1716681600-1716767999@freneuse-sur-risle.fr
SUMMARY:Foire à tout
DESCRIPTION:
URL:https://freneuse-sur-risle.fr/event/foire-a-tout/
CATEGORIES:ASCF
END:VEVENT
END:VCALENDAR