BEGIN:VCALENDAR
VERSION:2.0
PRODID:-//Freneuse-sur-Risle - ECPv6.15.18//NONSGML v1.0//EN
CALSCALE:GREGORIAN
METHOD:PUBLISH
X-WR-CALNAME:Freneuse-sur-Risle
X-ORIGINAL-URL:https://freneuse-sur-risle.fr
X-WR-CALDESC:Évènements pour Freneuse-sur-Risle
REFRESH-INTERVAL;VALUE=DURATION:PT1H
X-Robots-Tag:noindex
X-PUBLISHED-TTL:PT1H
BEGIN:VTIMEZONE
TZID:UTC
BEGIN:STANDARD
TZOFFSETFROM:+0000
TZOFFSETTO:+0000
TZNAME:UTC
DTSTART:20230101T000000
END:STANDARD
END:VTIMEZONE
BEGIN:VEVENT
DTSTART;VALUE=DATE:20240323
DTEND;VALUE=DATE:20240324
DTSTAMP:20260423T151853
CREATED:20231229T155341Z
LAST-MODIFIED:20240222T201653Z
UID:1718-1711152000-1711238399@freneuse-sur-risle.fr
SUMMARY:Randonnée "Printemps\, crêpes et cidre"
DESCRIPTION:Randonnées : RDV devant la salle communale « La Freneusienne » \nLe samedi à 14h \nLe dimanche à 10h
URL:https://freneuse-sur-risle.fr/event/randonnee-printemps-crepes-et-cidre/
CATEGORIES:ASCF,Randonnées
END:VEVENT
END:VCALENDAR