BEGIN:VCALENDAR
VERSION:2.0
PRODID:-//Freneuse-sur-Risle - ECPv6.15.18//NONSGML v1.0//EN
CALSCALE:GREGORIAN
METHOD:PUBLISH
X-ORIGINAL-URL:https://freneuse-sur-risle.fr
X-WR-CALDESC:Évènements pour Freneuse-sur-Risle
REFRESH-INTERVAL;VALUE=DURATION:PT1H
X-Robots-Tag:noindex
X-PUBLISHED-TTL:PT1H
BEGIN:VTIMEZONE
TZID:UTC
BEGIN:STANDARD
TZOFFSETFROM:+0000
TZOFFSETTO:+0000
TZNAME:UTC
DTSTART:20220101T000000
END:STANDARD
END:VTIMEZONE
BEGIN:VEVENT
DTSTART;TZID=UTC:20230625T003000
DTEND;TZID=UTC:20230625T170000
DTSTAMP:20260424T062806
CREATED:20230605T105722Z
LAST-MODIFIED:20230605T105722Z
UID:1351-1687653000-1687712400@freneuse-sur-risle.fr
SUMMARY:Repas Champêtre
DESCRIPTION:L’A.S.C.F. organise son tradittionnel repas champêtre à partir de 12h30. \nRéservation obligatoire grâce au coupon-réponse à déposer dans la boite aux lettres de l’association.
URL:https://freneuse-sur-risle.fr/event/repas-champetre/
CATEGORIES:ASCF
END:VEVENT
END:VCALENDAR